BEGIN:VCALENDAR
VERSION:2.0
PRODID:-//Estate Greats - ECPv6.2.9//NONSGML v1.0//EN
CALSCALE:GREGORIAN
METHOD:PUBLISH
X-ORIGINAL-URL:https://estategreats.net
X-WR-CALDESC:Events for Estate Greats
REFRESH-INTERVAL;VALUE=DURATION:PT1H
X-Robots-Tag:noindex
X-PUBLISHED-TTL:PT1H
BEGIN:VTIMEZONE
TZID:UTC
BEGIN:STANDARD
TZOFFSETFROM:+0000
TZOFFSETTO:+0000
TZNAME:UTC
DTSTART:20230101T000000
END:STANDARD
END:VTIMEZONE
BEGIN:VEVENT
DTSTART;VALUE=DATE:20230816
DTEND;VALUE=DATE:20230821
DTSTAMP:20260423T175227
CREATED:20230816T134827Z
LAST-MODIFIED:20230816T135109Z
UID:3110-1692144000-1692575999@estategreats.net
SUMMARY:Hermitage Moving Sale\, Bedroom Sets\, Couches\, Recliners - Online - Accepting offers on all items!
DESCRIPTION:Online-only moving sale\, pickup days August 18\, 19\, and by appointment – call 615-200-8297 to schedule! Buy online now\, pickup at your convenience. \nShop here!
URL:https://estategreats.net/estate-sales/hermitage-moving-sale-bedroom-sets-couches-recliners-online-accepting-offers-on-all-items/
ATTACH;FMTTYPE=image/jpeg:https://estategreats.net/wp-content/uploads/2023/08/0Minimal-Square-Photo-Collage-Photography-Instagram-Post-2.jpg
ORGANIZER;CN="Estate Greats":MAILTO:info@estategreats.net
END:VEVENT
END:VCALENDAR