BEGIN:VCALENDAR
VERSION:2.0
PRODID:-//Estate Greats - ECPv6.2.9//NONSGML v1.0//EN
CALSCALE:GREGORIAN
METHOD:PUBLISH
X-WR-CALNAME:Estate Greats
X-ORIGINAL-URL:https://estategreats.net
X-WR-CALDESC:Events for Estate Greats
REFRESH-INTERVAL;VALUE=DURATION:PT1H
X-Robots-Tag:noindex
X-PUBLISHED-TTL:PT1H
BEGIN:VTIMEZONE
TZID:UTC
BEGIN:STANDARD
TZOFFSETFROM:+0000
TZOFFSETTO:+0000
TZNAME:UTC
DTSTART:20230101T000000
END:STANDARD
END:VTIMEZONE
BEGIN:VEVENT
DTSTART;TZID=UTC:20230916T090000
DTEND;TZID=UTC:20230917T170000
DTSTAMP:20260423T162020
CREATED:20230913T151210Z
LAST-MODIFIED:20230913T151422Z
UID:3120-1694854800-1694970000@estategreats.net
SUMMARY:BEAUTIFUL Brentwood Moving Sale!
DESCRIPTION:  \nThis Brentwood moving sale is a must! Beautiful\, high-end furniture\, china\, Christmas decorations\, tools\, clothes\, and more all in perfect condition and priced to move!! Don’t miss this one! \nPhotos and more info available here!
URL:https://estategreats.net/estate-sales/beautiful-brentwood-moving-sale/
ATTACH;FMTTYPE=image/jpeg:https://estategreats.net/wp-content/uploads/2023/09/Facebook-estate-sale-posts-3.jpg
END:VEVENT
END:VCALENDAR