BEGIN:VCALENDAR
VERSION:2.0
PRODID:-//Estate Greats - ECPv6.2.9//NONSGML v1.0//EN
CALSCALE:GREGORIAN
METHOD:PUBLISH
X-WR-CALNAME:Estate Greats
X-ORIGINAL-URL:https://estategreats.net
X-WR-CALDESC:Events for Estate Greats
REFRESH-INTERVAL;VALUE=DURATION:PT1H
X-Robots-Tag:noindex
X-PUBLISHED-TTL:PT1H
BEGIN:VTIMEZONE
TZID:UTC
BEGIN:STANDARD
TZOFFSETFROM:+0000
TZOFFSETTO:+0000
TZNAME:UTC
DTSTART:20230101T000000
END:STANDARD
END:VTIMEZONE
BEGIN:VEVENT
DTSTART;TZID=UTC:20231215T080000
DTEND;TZID=UTC:20231217T170000
DTSTAMP:20260422T111108
CREATED:20231204T221526Z
LAST-MODIFIED:20231214T170546Z
UID:3152-1702627200-1702832400@estategreats.net
SUMMARY:Beautiful Nashville Moving Sale
DESCRIPTION:Lots of beautiful antique furniture\, original artwork\, outdoor garden and patio furniture\, tools\, and more! Everything is in great condition! \nAddress:\n606 Linden Sq\nNashville Tn 37215 \nVIEW THE COMPLETE LISTING WITH ALL 200+ PHOTOS HERE: \nhttps://www.estatesales.net/TN/Nashville/37215/3891384
URL:https://estategreats.net/estate-sales/beautiful-nashville-moving-sale-dec-15-17/
ATTACH;FMTTYPE=image/jpeg:https://estategreats.net/wp-content/uploads/2023/12/ogimage-2262853-pile-e1701728050195.jpg
ORGANIZER;CN="Estate Greats":MAILTO:info@estategreats.net
END:VEVENT
END:VCALENDAR