BEGIN:VCALENDAR
VERSION:2.0
PRODID:-//Estate Greats - ECPv6.2.9//NONSGML v1.0//EN
CALSCALE:GREGORIAN
METHOD:PUBLISH
X-WR-CALNAME:Estate Greats
X-ORIGINAL-URL:https://estategreats.net
X-WR-CALDESC:Events for Estate Greats
REFRESH-INTERVAL;VALUE=DURATION:PT1H
X-Robots-Tag:noindex
X-PUBLISHED-TTL:PT1H
BEGIN:VTIMEZONE
TZID:UTC
BEGIN:STANDARD
TZOFFSETFROM:+0000
TZOFFSETTO:+0000
TZNAME:UTC
DTSTART:20240101T000000
END:STANDARD
END:VTIMEZONE
BEGIN:VEVENT
DTSTART;TZID=UTC:20240126T080000
DTEND;TZID=UTC:20240128T170000
DTSTAMP:20260421T123019
CREATED:20240105T151321Z
LAST-MODIFIED:20240126T051218Z
UID:3161-1706256000-1706461200@estategreats.net
SUMMARY:Great Goodlettsville Estate Sale
DESCRIPTION:
URL:https://estategreats.net/estate-sales/great-goodlettsville-estate-sale/
ATTACH;FMTTYPE=image/jpeg:https://estategreats.net/wp-content/uploads/2024/01/IMG_5708.jpg
ORGANIZER;CN="Estate Greats":MAILTO:info@estategreats.net
END:VEVENT
BEGIN:VEVENT
DTSTART;TZID=UTC:20240126T090000
DTEND;TZID=UTC:20240128T170000
DTSTAMP:20260421T123019
CREATED:20240116T143903Z
LAST-MODIFIED:20240126T051019Z
UID:3170-1706259600-1706461200@estategreats.net
SUMMARY:Great Hendersonville Sale - Antiques\, Collectibles\, Furniture
DESCRIPTION:
URL:https://estategreats.net/estate-sales/great-hendersonville-sale-antiques-collectibles-furniture/
ATTACH;FMTTYPE=image/jpeg:https://estategreats.net/wp-content/uploads/2024/01/936ad5d4-7965-470b-b5cc-7a788315f52d.jpg
ORGANIZER;CN="Estate Greats":MAILTO:info@estategreats.net
END:VEVENT
END:VCALENDAR