BEGIN:VCALENDAR
VERSION:2.0
PRODID:-//Estate Greats - ECPv6.2.9//NONSGML v1.0//EN
CALSCALE:GREGORIAN
METHOD:PUBLISH
X-ORIGINAL-URL:https://estategreats.net
X-WR-CALDESC:Events for Estate Greats
REFRESH-INTERVAL;VALUE=DURATION:PT1H
X-Robots-Tag:noindex
X-PUBLISHED-TTL:PT1H
BEGIN:VTIMEZONE
TZID:UTC
BEGIN:STANDARD
TZOFFSETFROM:+0000
TZOFFSETTO:+0000
TZNAME:UTC
DTSTART:20240101T000000
END:STANDARD
END:VTIMEZONE
BEGIN:VEVENT
DTSTART;TZID=UTC:20240209T090000
DTEND;TZID=UTC:20240211T170000
DTSTAMP:20260421T110449
CREATED:20240116T210931Z
LAST-MODIFIED:20240116T210931Z
UID:3180-1707469200-1707670800@estategreats.net
SUMMARY:Super Smyrna Sale
DESCRIPTION:
URL:https://estategreats.net/estate-sales/super-smyrna-sale/
ATTACH;FMTTYPE=image/png:https://estategreats.net/wp-content/uploads/2024/01/Photos-Coming-Soon.png
ORGANIZER;CN="Estate Greats":MAILTO:info@estategreats.net
END:VEVENT
END:VCALENDAR