BEGIN:VCALENDAR
VERSION:2.0
PRODID:-//Estate Greats - ECPv6.2.9//NONSGML v1.0//EN
CALSCALE:GREGORIAN
METHOD:PUBLISH
X-ORIGINAL-URL:https://estategreats.net
X-WR-CALDESC:Events for Estate Greats
REFRESH-INTERVAL;VALUE=DURATION:PT1H
X-Robots-Tag:noindex
X-PUBLISHED-TTL:PT1H
BEGIN:VTIMEZONE
TZID:UTC
BEGIN:STANDARD
TZOFFSETFROM:+0000
TZOFFSETTO:+0000
TZNAME:UTC
DTSTART:20240101T000000
END:STANDARD
END:VTIMEZONE
BEGIN:VEVENT
DTSTART;TZID=UTC:20240405T080000
DTEND;TZID=UTC:20240407T150000
DTSTAMP:20260421T093550
CREATED:20240327T021424Z
LAST-MODIFIED:20240330T031457Z
UID:3204-1712304000-1712502000@estategreats.net
SUMMARY:Amazing Antioch Estate Sale!
DESCRIPTION:This full home of antiques\, furniture\, clothes\, books\, home decor\, and so much more is going to be worthwhile. Come shop with us 4/5-4/7 to snag the best pieces of this estate sale!
URL:https://estategreats.net/estate-sales/amazing-antioch-estate-sale/
ATTACH;FMTTYPE=image/jpeg:https://estategreats.net/wp-content/uploads/2024/03/9E51C6D5-C24E-4D97-8DA2-E3717877F1EA.jpg
END:VEVENT
END:VCALENDAR