BEGIN:VCALENDAR
VERSION:2.0
PRODID:-//Estate Greats - ECPv6.2.9//NONSGML v1.0//EN
CALSCALE:GREGORIAN
METHOD:PUBLISH
X-WR-CALNAME:Estate Greats
X-ORIGINAL-URL:https://estategreats.net
X-WR-CALDESC:Events for Estate Greats
REFRESH-INTERVAL;VALUE=DURATION:PT1H
X-Robots-Tag:noindex
X-PUBLISHED-TTL:PT1H
BEGIN:VTIMEZONE
TZID:UTC
BEGIN:STANDARD
TZOFFSETFROM:+0000
TZOFFSETTO:+0000
TZNAME:UTC
DTSTART:20240101T000000
END:STANDARD
END:VTIMEZONE
BEGIN:VEVENT
DTSTART;TZID=UTC:20240412T090000
DTEND;TZID=UTC:20240414T150000
DTSTAMP:20260421T093426
CREATED:20240321T182132Z
LAST-MODIFIED:20240407T201159Z
UID:3199-1712912400-1713106800@estategreats.net
SUMMARY:Exciting Hendersonville Estate Sale!
DESCRIPTION:Get ready for an adventure at our Estate Sale in Hendersonville\, TN! \nExplore a treasure trove filled with furniture\, antiques\, collectibles\, clothes\, and decor. Each item has a story to tell\, waiting for you to uncover its charm. Whether you’re searching for a unique piece to decorate your home or adding a vintage touch to your wardrobe\, you’ll find it here. \nJoin us for an exciting shopping experience where every corner holds a surprise.
URL:https://estategreats.net/estate-sales/exciting-hendersonville-estate-sale/
ATTACH;FMTTYPE=image/jpeg:https://estategreats.net/wp-content/uploads/2024/03/A99FAFFA-4A24-46AF-9C2C-5BC6385799B4.jpg
END:VEVENT
END:VCALENDAR