BEGIN:VCALENDAR
VERSION:2.0
PRODID:-//Estate Greats - ECPv6.2.9//NONSGML v1.0//EN
CALSCALE:GREGORIAN
METHOD:PUBLISH
X-WR-CALNAME:Estate Greats
X-ORIGINAL-URL:https://estategreats.net
X-WR-CALDESC:Events for Estate Greats
REFRESH-INTERVAL;VALUE=DURATION:PT1H
X-Robots-Tag:noindex
X-PUBLISHED-TTL:PT1H
BEGIN:VTIMEZONE
TZID:UTC
BEGIN:STANDARD
TZOFFSETFROM:+0000
TZOFFSETTO:+0000
TZNAME:UTC
DTSTART:20260101T000000
END:STANDARD
END:VTIMEZONE
BEGIN:VEVENT
DTSTART;TZID=UTC:20260501T090000
DTEND;TZID=UTC:20260503T140000
DTSTAMP:20260422T225848
CREATED:20260415T201253Z
LAST-MODIFIED:20260415T201253Z
UID:4679-1777626000-1777816800@estategreats.net
SUMMARY:Incredible La Vergne Estate Sale
DESCRIPTION:Antique furniture\, vintage home artwork\, yard decor\, tools\, and MORE at this Incredible La Vergne Estate Sale!
URL:https://estategreats.net/estate-sales/incredible-la-vergne-estate-sale/
ATTACH;FMTTYPE=image/jpeg:https://estategreats.net/wp-content/uploads/2026/04/98e9bbb1-6591-45f9-8bd5-6d3b2d6dc1dd.jpg
END:VEVENT
BEGIN:VEVENT
DTSTART;TZID=UTC:20260508T090000
DTEND;TZID=UTC:20260510T140000
DTSTAMP:20260422T225848
CREATED:20260326T205257Z
LAST-MODIFIED:20260326T205257Z
UID:4625-1778230800-1778421600@estategreats.net
SUMMARY:Incredible Brentwood Estate Sale
DESCRIPTION:Beautiful artwork\, furniture\, collectibles\, antiques\, and MORE available at this Incredible Brentwood Estate Sale!
URL:https://estategreats.net/estate-sales/incredible-brentwood-estate-sale/
ATTACH;FMTTYPE=image/jpeg:https://estategreats.net/wp-content/uploads/2026/03/e8e7d77c-af9f-403b-b1ac-fbe8317e93e2.jpg
END:VEVENT
BEGIN:VEVENT
DTSTART;TZID=UTC:20260508T090000
DTEND;TZID=UTC:20260510T140000
DTSTAMP:20260422T225848
CREATED:20260407T220224Z
LAST-MODIFIED:20260417T040014Z
UID:4650-1778230800-1778421600@estategreats.net
SUMMARY:Franklin TN Estate Sale!
DESCRIPTION:More info coming soon! \nView on EstateSales.net
URL:https://estategreats.net/estate-sales/franklin-tn-estate-sale-3/
ATTACH;FMTTYPE=image/png:https://estategreats.net/wp-content/uploads/2024/01/Photos-Coming-Soon.png
ORGANIZER;CN="Estate Greats":MAILTO:info@estategreats.net
END:VEVENT
BEGIN:VEVENT
DTSTART;TZID=UTC:20260515T090000
DTEND;TZID=UTC:20260517T140000
DTSTAMP:20260422T225848
CREATED:20260422T202119Z
LAST-MODIFIED:20260422T202119Z
UID:4688-1778835600-1779026400@estategreats.net
SUMMARY:Wonderful Nashville Estate Sale
DESCRIPTION:This wonderful Nashville estate sale has exciting finds from furniture\, clothing\, home decor\, and MORE!
URL:https://estategreats.net/estate-sales/wonderful-nashville-estate-sale/
ATTACH;FMTTYPE=image/png:https://estategreats.net/wp-content/uploads/2024/01/Photos-Coming-Soon.png
END:VEVENT
BEGIN:VEVENT
DTSTART;TZID=UTC:20260522T090000
DTEND;TZID=UTC:20260524T140000
DTSTAMP:20260422T225848
CREATED:20260421T220255Z
LAST-MODIFIED:20260421T220255Z
UID:4685-1779440400-1779631200@estategreats.net
SUMMARY:Home Essentials Nashville Estate Sale
DESCRIPTION:This Home Essentials Nashville Estate sale has beautiful bookshelves\, seating\, furniture\, home decor\, artwork\, and MORE!
URL:https://estategreats.net/estate-sales/home-essentials-nashville-estate-sale-2/
ATTACH;FMTTYPE=image/jpeg:https://estategreats.net/wp-content/uploads/2026/04/b9818693-acc5-4c2e-848b-2dcb1cf1f288.jpg
END:VEVENT
BEGIN:VEVENT
DTSTART;TZID=UTC:20260529T090000
DTEND;TZID=UTC:20260531T140000
DTSTAMP:20260422T225848
CREATED:20260422T202845Z
LAST-MODIFIED:20260422T202845Z
UID:4690-1780045200-1780236000@estategreats.net
SUMMARY:HUGE Nashville Estate Sale: Phase 1
DESCRIPTION:Phase 1 of this HUGE Nashville Estate Sale is one you certainly cannot miss! Shop collectibles\, home furniture\, antique kitchen essentials\, holiday decor\, and plenty more. \n\n\n\n\n\n\n\n 
URL:https://estategreats.net/estate-sales/huge-nashville-estate-sale-phase-1/
ATTACH;FMTTYPE=image/jpeg:https://estategreats.net/wp-content/uploads/2026/04/IMG_0257.jpg
END:VEVENT
END:VCALENDAR