BEGIN:VCALENDAR
VERSION:2.0
PRODID:-//Estate Greats - ECPv6.2.9//NONSGML v1.0//EN
CALSCALE:GREGORIAN
METHOD:PUBLISH
X-WR-CALNAME:Estate Greats
X-ORIGINAL-URL:https://estategreats.net
X-WR-CALDESC:Events for Estate Greats
REFRESH-INTERVAL;VALUE=DURATION:PT1H
X-Robots-Tag:noindex
X-PUBLISHED-TTL:PT1H
BEGIN:VTIMEZONE
TZID:UTC
BEGIN:STANDARD
TZOFFSETFROM:+0000
TZOFFSETTO:+0000
TZNAME:UTC
DTSTART:20230101T000000
END:STANDARD
END:VTIMEZONE
BEGIN:VEVENT
DTSTART;TZID=UTC:20230901T090000
DTEND;TZID=UTC:20230903T170000
DTSTAMP:20260423T145814
CREATED:20230709T193923Z
LAST-MODIFIED:20230709T193923Z
UID:2923-1693558800-1693760400@estategreats.net
SUMMARY:Magnificent Madison Estate Sale!! Antiques!! Furniture! Tools!
DESCRIPTION:Exciting Estate Sale east of Nashville in Madison! Antique lovers’ dream! Furniture! Collectibles! Tools! Everything is in pristine condition! Do not miss! \nJoin us on Friday\, September 1 through Sunday\, September 3! Hours from 9am – 5pm each day. \nListing on EstateSales.net
URL:https://estategreats.net/estate-sales/magnificent-madison-estate-sale-antiques-furniture-tools/
ATTACH;FMTTYPE=image/jpeg:https://estategreats.net/wp-content/uploads/2023/07/sept-1-madison-home.jpg
ORGANIZER;CN="Estate Greats":MAILTO:info@estategreats.net
END:VEVENT
BEGIN:VEVENT
DTSTART;TZID=UTC:20230916T090000
DTEND;TZID=UTC:20230917T170000
DTSTAMP:20260423T145815
CREATED:20230913T151210Z
LAST-MODIFIED:20230913T151422Z
UID:3120-1694854800-1694970000@estategreats.net
SUMMARY:BEAUTIFUL Brentwood Moving Sale!
DESCRIPTION:  \nThis Brentwood moving sale is a must! Beautiful\, high-end furniture\, china\, Christmas decorations\, tools\, clothes\, and more all in perfect condition and priced to move!! Don’t miss this one! \nPhotos and more info available here!
URL:https://estategreats.net/estate-sales/beautiful-brentwood-moving-sale/
ATTACH;FMTTYPE=image/jpeg:https://estategreats.net/wp-content/uploads/2023/09/Facebook-estate-sale-posts-3.jpg
END:VEVENT
BEGIN:VEVENT
DTSTART;TZID=UTC:20230923T080000
DTEND;TZID=UTC:20230924T170000
DTSTAMP:20260423T145815
CREATED:20230907T002934Z
LAST-MODIFIED:20230907T003111Z
UID:3117-1695456000-1695574800@estategreats.net
SUMMARY:GREAT Hermitage Sale! Everything Priced to MOVE!
DESCRIPTION:Lots of treasures to be found at this Hermitage clean-out sale. Furniture\, bedroom sets\, kitchenware\, art supplies\, clothes\, shoes\, and MORE! Everything is priced to move!
URL:https://estategreats.net/estate-sales/great-hermitage-sale-everything-priced-to-move/
LOCATION:Fox Run Condominiums\, Hermitage\, TN\, 37076\, United States
END:VEVENT
END:VCALENDAR