BEGIN:VCALENDAR
VERSION:2.0
PRODID:-//Estate Greats - ECPv6.2.9//NONSGML v1.0//EN
CALSCALE:GREGORIAN
METHOD:PUBLISH
X-ORIGINAL-URL:https://estategreats.net
X-WR-CALDESC:Events for Estate Greats
REFRESH-INTERVAL;VALUE=DURATION:PT1H
X-Robots-Tag:noindex
X-PUBLISHED-TTL:PT1H
BEGIN:VTIMEZONE
TZID:UTC
BEGIN:STANDARD
TZOFFSETFROM:+0000
TZOFFSETTO:+0000
TZNAME:UTC
DTSTART:20230101T000000
END:STANDARD
END:VTIMEZONE
BEGIN:VEVENT
DTSTART;TZID=UTC:20231006T080000
DTEND;TZID=UTC:20231006T170000
DTSTAMP:20260423T133823
CREATED:20231004T173931Z
LAST-MODIFIED:20231004T173931Z
UID:3127-1696579200-1696611600@estategreats.net
SUMMARY:AWESOME Antioch Estate Sale! Tool Cabinets\, Leather Couch\, Antiques\, Collectibles\, Vinyl\, and more!
DESCRIPTION:We’ll see you on October 6 in Antioch TN 37013\, starting at 8am. \n\n\n \n\n\nThis sale has something for everyone! Beautiful furniture\, including grandfather clock\, Thomasville dining room table and hutch\, bedroom set\, secretary desk\, leather couch\, Craftsman tool cabinets\, work bench\, lots of tools\, auto equipment\, collectibles\, Barbies\, Johnny West toys\, stereo equipment\, vinyl record collection\, a banjo\, guitar amps\, and more! Everything is priced to move! Not to be missed!
URL:https://estategreats.net/estate-sales/awesome-antioch-estate-sale-tool-cabinets-leather-couch-antiques-collectibles-vinyl-and-more/
ATTACH;FMTTYPE=image/png:https://estategreats.net/wp-content/uploads/2023/10/Facebook-estate-sale-posts-5.png
ORGANIZER;CN="Estate Greats":MAILTO:info@estategreats.net
END:VEVENT
BEGIN:VEVENT
DTSTART;TZID=UTC:20231014T080000
DTEND;TZID=UTC:20231014T170000
DTSTAMP:20260423T133823
CREATED:20231004T174340Z
LAST-MODIFIED:20231010T141933Z
UID:3130-1697270400-1697302800@estategreats.net
SUMMARY:Super South Nashville Estate Sale
DESCRIPTION:Couches\nElectric fireplace\nBedroom sets\nKitchenware\nDining room table\nJewelry\nWatches\nCorningware\nOneida silverware\nTools\nWomen’s clothing\nand more!
URL:https://estategreats.net/estate-sales/super-south-nashville-estate-sale/
ATTACH;FMTTYPE=image/png:https://estategreats.net/wp-content/uploads/2023/10/Facebook-estate-sale-posts-5-1.png
ORGANIZER;CN="Estate Greats":MAILTO:info@estategreats.net
END:VEVENT
BEGIN:VEVENT
DTSTART;TZID=UTC:20231027T080000
DTEND;TZID=UTC:20231028T170000
DTSTAMP:20260423T133823
CREATED:20231010T144529Z
LAST-MODIFIED:20231010T144529Z
UID:3134-1698393600-1698512400@estategreats.net
SUMMARY:Great East Nashville Sale - Antiques\, Collectibles\, Steinway Piano\, Jewelry\, Tools\, and More!
DESCRIPTION:
URL:https://estategreats.net/estate-sales/great-east-nashville-sale-antiques-collectibles-steinway-piano-jewelry-tools-and-more/
ORGANIZER;CN="Estate Greats":MAILTO:info@estategreats.net
END:VEVENT
END:VCALENDAR