BEGIN:VCALENDAR
VERSION:2.0
PRODID:-//Estate Greats - ECPv6.2.9//NONSGML v1.0//EN
CALSCALE:GREGORIAN
METHOD:PUBLISH
X-ORIGINAL-URL:https://estategreats.net
X-WR-CALDESC:Events for Estate Greats
REFRESH-INTERVAL;VALUE=DURATION:PT1H
X-Robots-Tag:noindex
X-PUBLISHED-TTL:PT1H
BEGIN:VTIMEZONE
TZID:UTC
BEGIN:STANDARD
TZOFFSETFROM:+0000
TZOFFSETTO:+0000
TZNAME:UTC
DTSTART:20230101T000000
END:STANDARD
END:VTIMEZONE
BEGIN:VEVENT
DTSTART;TZID=UTC:20231104T080000
DTEND;TZID=UTC:20231105T170000
DTSTAMP:20260423T121214
CREATED:20231102T164552Z
LAST-MODIFIED:20231102T164552Z
UID:3139-1699084800-1699203600@estategreats.net
SUMMARY:AMAZING Antioch Moving sale! Antiques\, Instruments\, Furniture\, Fine Jewelry!
DESCRIPTION:Collectibles\, fine jewelry\, watches\, furniture\, kitchenware\, China\, art\, musical instruments\, Christmas decorations and so much more! Everything is in pristine condition and priced to move! \nLink to over 400 photos!
URL:https://estategreats.net/estate-sales/amazing-antioch-moving-sale-antiques-instruments-furniture-fine-jewelry/
ATTACH;FMTTYPE=image/png:https://estategreats.net/wp-content/uploads/2023/11/Copy-of-Facebook-estate-sale-posts-5.png
ORGANIZER;CN="Estate Greats":MAILTO:info@estategreats.net
END:VEVENT
BEGIN:VEVENT
DTSTART;TZID=UTC:20231117T080000
DTEND;TZID=UTC:20231119T170000
DTSTAMP:20260423T121214
CREATED:20231116T023435Z
LAST-MODIFIED:20231116T023531Z
UID:3143-1700208000-1700413200@estategreats.net
SUMMARY:AMAZING South Nashville Sale!
DESCRIPTION:Not to be missed! This sale has something for everyone. Furniture\, bedroom sets\, kitchenware\, collectibles\, Barbies\, Christmas decorations\, tools\, lawn care equipment\, and so much more! Everything is in terrific shape and priced to move. Do not miss this one!
URL:https://estategreats.net/estate-sales/amazing-south-nashville-sale/
ATTACH;FMTTYPE=image/png:https://estategreats.net/wp-content/uploads/2023/11/077F04F7-374E-48C9-91C1-688790D3D007.png
ORGANIZER;CN="Estate Greats":MAILTO:info@estategreats.net
END:VEVENT
END:VCALENDAR