BEGIN:VCALENDAR
VERSION:2.0
PRODID:-//Estate Greats - ECPv6.2.9//NONSGML v1.0//EN
CALSCALE:GREGORIAN
METHOD:PUBLISH
X-WR-CALNAME:Estate Greats
X-ORIGINAL-URL:https://estategreats.net
X-WR-CALDESC:Events for Estate Greats
REFRESH-INTERVAL;VALUE=DURATION:PT1H
X-Robots-Tag:noindex
X-PUBLISHED-TTL:PT1H
BEGIN:VTIMEZONE
TZID:UTC
BEGIN:STANDARD
TZOFFSETFROM:+0000
TZOFFSETTO:+0000
TZNAME:UTC
DTSTART:20240101T000000
END:STANDARD
END:VTIMEZONE
BEGIN:VEVENT
DTSTART;VALUE=DATE:20240202
DTEND;VALUE=DATE:20240205
DTSTAMP:20260421T093534
CREATED:20240105T151735Z
LAST-MODIFIED:20240126T051120Z
UID:3164-1706832000-1707091199@estategreats.net
SUMMARY:Amazing East Nashville Sale
DESCRIPTION:Lots of old antiques\, collectibles\, kitchenware\, electronics\, furniture
URL:https://estategreats.net/estate-sales/amazing-east-nashville-sale/
ATTACH;FMTTYPE=image/jpeg:https://estategreats.net/wp-content/uploads/2024/01/IMG_5098.jpg
ORGANIZER;CN="Estate Greats":MAILTO:info@estategreats.net
END:VEVENT
BEGIN:VEVENT
DTSTART;TZID=UTC:20240202T100000
DTEND;TZID=UTC:20240204T170000
DTSTAMP:20260421T093534
CREATED:20240116T171609Z
LAST-MODIFIED:20240116T171609Z
UID:3173-1706868000-1707066000@estategreats.net
SUMMARY:Beautiful Hendersonville Sale - Lots of furniture\, antiques\, collectibles
DESCRIPTION:
URL:https://estategreats.net/estate-sales/beautiful-hendersonville-sale-lots-of-furniture-antiques-collectibles/
ATTACH;FMTTYPE=image/png:https://estategreats.net/wp-content/uploads/2024/01/Photos-Coming-Soon.png
ORGANIZER;CN="Estate Greats":MAILTO:info@estategreats.net
END:VEVENT
BEGIN:VEVENT
DTSTART;TZID=UTC:20240209T090000
DTEND;TZID=UTC:20240211T170000
DTSTAMP:20260421T093534
CREATED:20240116T210931Z
LAST-MODIFIED:20240116T210931Z
UID:3180-1707469200-1707670800@estategreats.net
SUMMARY:Super Smyrna Sale
DESCRIPTION:
URL:https://estategreats.net/estate-sales/super-smyrna-sale/
ATTACH;FMTTYPE=image/png:https://estategreats.net/wp-content/uploads/2024/01/Photos-Coming-Soon.png
ORGANIZER;CN="Estate Greats":MAILTO:info@estategreats.net
END:VEVENT
BEGIN:VEVENT
DTSTART;TZID=UTC:20240229T090000
DTEND;TZID=UTC:20240303T170000
DTSTAMP:20260421T093534
CREATED:20240116T171747Z
LAST-MODIFIED:20240222T232538Z
UID:3177-1709197200-1709485200@estategreats.net
SUMMARY:Wonderful White House Sale - lots of antiques\, locksmith workshop\, garage loaded with tools!!
DESCRIPTION:House and multiple sheds stuffed with antiques\, a garage full of old tools\, a two-story locksmith workshop\, patio furniture\, riding lawn mowers\, and hundreds of dolls.
URL:https://estategreats.net/estate-sales/wonderful-white-house-sale-full-of-antiques-locksmith-workshop-garage-loaded-with-tools/
ATTACH;FMTTYPE=image/png:https://estategreats.net/wp-content/uploads/2024/01/Photos-Coming-Soon.png
ORGANIZER;CN="Estate Greats":MAILTO:info@estategreats.net
END:VEVENT
END:VCALENDAR